BEGIN:VCALENDAR
VERSION:2.0
PRODID:SchoolNow
CALSCALE:GREGORIAN
BEGIN:VEVENT
UID:11b8b64a-bfef-11e8-9736-0ab50b5c8ab0
DTSTAMP:20180924T114335Z
SUMMARY:Thanksgiving Recess No School
URL;VALUE=URI:https://www.decaturproud.org/blue-academy/calendar/1874570/th
 anksgiving-recess-no-school
DTSTART:20181119T135400Z
DTEND:20181123T145400Z
END:VEVENT
END:VCALENDAR
