BEGIN:VCALENDAR
VERSION:2.0
PRODID:SchoolNow
CALSCALE:GREGORIAN
BEGIN:VEVENT
UID:95300420-bfee-11e8-8ce8-0a9e4148eb8e
DTSTAMP:20180924T114006Z
SUMMARY:Fall Recess No School
URL;VALUE=URI:https://www.decaturproud.org/blue-academy/calendar/1874552/fa
 ll-recess-no-school
DTSTART:20181015T125200Z
DTEND:20181019T135200Z
END:VEVENT
END:VCALENDAR
