BEGIN:VCALENDAR
VERSION:2.0
PRODID:SchoolNow
CALSCALE:GREGORIAN
BEGIN:VEVENT
UID:6ebff00a-bc2b-11e8-8ec4-0ad71902a134
DTSTAMP:20180919T164536Z
SUMMARY:Spring Concerts - 3rd and 4th Grades
URL;VALUE=URI:https://www.decaturproud.org/blue-academy/calendar/1871685/sp
 ring-concerts-3rd-and-4th-grades
DTSTART:20190430T220000Z
DTEND:20190430T233000Z
END:VEVENT
END:VCALENDAR
