BEGIN:VCALENDAR
VERSION:2.0
PRODID:SchoolNow
CALSCALE:GREGORIAN
BEGIN:VEVENT
UID:031c0d02-bc2b-11e8-8688-12f86cbf6730
DTSTAMP:20180919T164235Z
SUMMARY:PTO Meeting
URL;VALUE=URI:https://www.decaturproud.org/blue-academy/calendar/1871568/pt
 o-meeting
DTSTART:20190409T220000Z
DTEND:20190409T224500Z
END:VEVENT
END:VCALENDAR
