BEGIN:VCALENDAR
VERSION:2.0
PRODID:SchoolNow
CALSCALE:GREGORIAN
BEGIN:VEVENT
UID:cb8171d4-bc2a-11e8-8ce9-12f86cbf6730
DTSTAMP:20180919T164102Z
SUMMARY:Spring Break - No School
URL;VALUE=URI:https://www.decaturproud.org/blue-academy/calendar/1871564/sp
 ring-break-no-school
DTSTART;VALUE=DATE:20190322
DTEND;VALUE=DATE:20190330
END:VEVENT
END:VCALENDAR
