BEGIN:VCALENDAR
VERSION:2.0
PRODID:SchoolNow
CALSCALE:GREGORIAN
BEGIN:VEVENT
UID:81335bd8-bc2a-11e8-98be-0a32b64fd6f6
DTSTAMP:20180919T163857Z
SUMMARY:PTO Meeting
URL;VALUE=URI:https://www.decaturproud.org/blue-academy/calendar/1871560/pt
 o-meeting
DTSTART:20190312T220000Z
DTEND:20190312T224500Z
END:VEVENT
END:VCALENDAR
