BEGIN:VCALENDAR
VERSION:2.0
PRODID:SchoolNow
CALSCALE:GREGORIAN
BEGIN:VEVENT
UID:4ea106ac-bc2a-11e8-ba12-0a32b64fd6f6
DTSTAMP:20180919T163732Z
SUMMARY:Carnival and Lions Club Spaghetti Dinner
URL;VALUE=URI:https://www.decaturproud.org/blue-academy/calendar/1871557/ca
 rnival-and-lions-club-spaghetti-dinner
DTSTART:20190228T223000Z
DTEND:20190301T010000Z
END:VEVENT
END:VCALENDAR
