BEGIN:VCALENDAR
VERSION:2.0
PRODID:SchoolNow
CALSCALE:GREGORIAN
BEGIN:VEVENT
UID:ac9414b2-bc29-11e8-9724-0a90d77241de
DTSTAMP:20190201T201149Z
SUMMARY:President's Day - School Make-up Day
URL;VALUE=URI:https://www.decaturproud.org/blue-academy/calendar/1871549/pr
 esidents-day-no-school
DTSTART;VALUE=DATE:20190218
DTEND;VALUE=DATE:20190219
END:VEVENT
END:VCALENDAR
