BEGIN:VCALENDAR
VERSION:2.0
PRODID:SchoolNow
CALSCALE:GREGORIAN
BEGIN:VEVENT
UID:701510c2-bc29-11e8-8890-0a90d77241de
DTSTAMP:20190117T141257Z
SUMMARY:Blue STEAM Night / Book Fair
URL;VALUE=URI:https://www.decaturproud.org/blue-academy/calendar/1871546/st
 em-night-book-fair
DTSTART:20190131T223000Z
DTEND:20190201T000000Z
END:VEVENT
END:VCALENDAR
