BEGIN:VCALENDAR
VERSION:2.0
PRODID:SchoolNow
CALSCALE:GREGORIAN
BEGIN:VEVENT
UID:b5bd0bd0-bc28-11e8-a0ea-0a32b64fd6f6
DTSTAMP:20180919T162606Z
SUMMARY:PTO Meeting
URL;VALUE=URI:https://www.decaturproud.org/blue-academy/calendar/1871534/pt
 o-meeting
DTSTART:20190108T230000Z
DTEND:20190108T234500Z
END:VEVENT
END:VCALENDAR
