BEGIN:VCALENDAR
VERSION:2.0
PRODID:SchoolNow
CALSCALE:GREGORIAN
BEGIN:VEVENT
UID:752c5418-bc28-11e8-bdbc-0a32b64fd6f6
DTSTAMP:20180919T162418Z
SUMMARY:PTO Meeting
URL;VALUE=URI:https://www.decaturproud.org/blue-academy/calendar/1871530/pt
 o-meeting
DTSTART:20181113T230000Z
DTEND:20181113T234500Z
END:VEVENT
END:VCALENDAR
