BEGIN:VCALENDAR
VERSION:2.0
PRODID:SchoolNow
CALSCALE:GREGORIAN
BEGIN:VEVENT
UID:56bfe882-bc28-11e8-9378-0a32b64fd6f6
DTSTAMP:20180919T162327Z
SUMMARY:5th Grade Holiday Concert
URL;VALUE=URI:https://www.decaturproud.org/blue-academy/calendar/1871528/5t
 h-grade-holiday-concert
DTSTART:20181213T233000Z
DTEND:20181214T003000Z
END:VEVENT
END:VCALENDAR
