BEGIN:VCALENDAR
VERSION:2.0
PRODID:SchoolNow
CALSCALE:GREGORIAN
BEGIN:VEVENT
UID:2d4344ae-bc28-11e8-b399-12f86cbf6730
DTSTAMP:20180919T162217Z
SUMMARY:Santa Shop
URL;VALUE=URI:https://www.decaturproud.org/blue-academy/calendar/1871525/sa
 nta-shop
DTSTART;VALUE=DATE:20181210
DTEND;VALUE=DATE:20181215
END:VEVENT
END:VCALENDAR
