BEGIN:VCALENDAR
VERSION:2.0
PRODID:SchoolNow
CALSCALE:GREGORIAN
BEGIN:VEVENT
UID:8ab7096e-bc27-11e8-b889-0ad870e10adc
DTSTAMP:20180919T161745Z
SUMMARY:Santa Shop and Lion's Club Breakfast
URL;VALUE=URI:https://www.decaturproud.org/blue-academy/calendar/1871520/sa
 nta-shop-and-lions-club-breakfast
DTSTART:20181208T130000Z
DTEND:20181208T180000Z
END:VEVENT
END:VCALENDAR
