BEGIN:VCALENDAR
VERSION:2.0
PRODID:SchoolNow
CALSCALE:GREGORIAN
BEGIN:VEVENT
UID:106b23f2-bc27-11e8-b934-0a3e0b0cab7a
DTSTAMP:20180919T161419Z
SUMMARY:Veterans' Day Program
URL;VALUE=URI:https://www.decaturproud.org/blue-academy/calendar/1871515/ve
 terans-day
DTSTART:20181109T184500Z
DTEND:20181109T193000Z
END:VEVENT
END:VCALENDAR
