BEGIN:VCALENDAR
VERSION:2.0
PRODID:SchoolNow
CALSCALE:GREGORIAN
BEGIN:VEVENT
UID:cebb8cbc-bc26-11e8-b805-0a3e0b0cab7a
DTSTAMP:20180919T161229Z
SUMMARY:Fall Break - No School
URL;VALUE=URI:https://www.decaturproud.org/blue-academy/calendar/1871512/fa
 ll-break-no-school
DTSTART;VALUE=DATE:20181015
DTEND;VALUE=DATE:20181020
END:VEVENT
END:VCALENDAR
