BEGIN:VCALENDAR
VERSION:2.0
PRODID:SchoolNow
CALSCALE:GREGORIAN
BEGIN:VEVENT
UID:a0a3b0a2-bc26-11e8-b50e-0a32b64fd6f6
DTSTAMP:20180919T161112Z
SUMMARY:Conference Day - No School
URL;VALUE=URI:https://www.decaturproud.org/blue-academy/calendar/1871510/co
 nference-day-no-school
DTSTART;VALUE=DATE:20181003
DTEND;VALUE=DATE:20181004
END:VEVENT
END:VCALENDAR
