BEGIN:VCALENDAR
VERSION:2.0
PRODID:SchoolNow
CALSCALE:GREGORIAN
BEGIN:VEVENT
UID:6eb1b3b4-bc26-11e8-a36c-12f86cbf6730
DTSTAMP:20180919T160948Z
SUMMARY:Grandparents Night/Book Fair
URL;VALUE=URI:https://www.decaturproud.org/blue-academy/calendar/1871507/gr
 andparents-night-book-fair
DTSTART:20181009T213000Z
DTEND:20181009T230000Z
END:VEVENT
END:VCALENDAR
