BEGIN:VCALENDAR
VERSION:2.0
PRODID:SchoolNow
CALSCALE:GREGORIAN
BEGIN:VEVENT
UID:63c0ad56-ac96-11e8-bd7a-0adfb60ad83c
DTSTAMP:20180830T205055Z
SUMMARY:Pastries with Parents
LOCATION:DELC Cafeteria
URL;VALUE=URI:https://www.decaturproud.org/blue-academy/calendar/1852573/pa
 stries-with-parents
DTSTART:20180831T120000Z
DTEND:20180831T130000Z
END:VEVENT
END:VCALENDAR
