BEGIN:VCALENDAR
VERSION:2.0
PRODID:SchoolNow
CALSCALE:GREGORIAN
BEGIN:VEVENT
UID:c0f8f9f1-7f02-11e7-bf32-124f7febbf4a
DTSTAMP:20170812T020546Z
SUMMARY:Awards Day - 5th & 6th
URL;VALUE=URI:https://www.decaturproud.org/blue-academy/calendar/1573004/aw
 ards-day-5th-6th
DTSTART:20180523T150000Z
DTEND:20180523T154000Z
END:VEVENT
END:VCALENDAR
