BEGIN:VCALENDAR
VERSION:2.0
PRODID:SchoolNow
CALSCALE:GREGORIAN
BEGIN:VEVENT
UID:a0e48401-7f02-11e7-bf32-124f7febbf4a
DTSTAMP:20170812T020452Z
SUMMARY:Awards Day - 3rd & 4th
URL;VALUE=URI:https://www.decaturproud.org/blue-academy/calendar/1572993/aw
 ards-day-3rd-4th
DTSTART:20180522T150000Z
DTEND:20180522T154000Z
END:VEVENT
END:VCALENDAR
