BEGIN:VCALENDAR
VERSION:2.0
PRODID:SchoolNow
CALSCALE:GREGORIAN
BEGIN:VEVENT
UID:6e5da60b-7f02-11e7-bf32-124f7febbf4a
DTSTAMP:20170812T020327Z
SUMMARY:Awards Day - 1st & 2nd Grade
URL;VALUE=URI:https://www.decaturproud.org/blue-academy/calendar/1572990/aw
 ards-day-1st-2nd-grade
DTSTART:20180521T150000Z
DTEND:20180521T153000Z
END:VEVENT
END:VCALENDAR
