BEGIN:VCALENDAR
VERSION:2.0
PRODID:SchoolNow
CALSCALE:GREGORIAN
BEGIN:VEVENT
UID:23d39a85-7f02-11e7-bf32-124f7febbf4a
DTSTAMP:20180511T115551Z
SUMMARY:Field Day
URL;VALUE=URI:https://www.decaturproud.org/blue-academy/calendar/1572988/fi
 eld-day
DTSTART:20180515T160000Z
DTEND:20180516T190000Z
END:VEVENT
END:VCALENDAR
