BEGIN:VCALENDAR
VERSION:2.0
PRODID:SchoolNow
CALSCALE:GREGORIAN
BEGIN:VEVENT
UID:ea7cb94f-7f01-11e7-bf32-124f7febbf4a
DTSTAMP:20170812T015946Z
SUMMARY:Spring Concerts - Grades 3 & 4
URL;VALUE=URI:https://www.decaturproud.org/blue-academy/calendar/1572986/sp
 ring-concerts-grades-3-4
DTSTART:20180501T220000Z
DTEND:20180501T224500Z
END:VEVENT
END:VCALENDAR
