BEGIN:VCALENDAR
VERSION:2.0
PRODID:SchoolNow
CALSCALE:GREGORIAN
BEGIN:VEVENT
UID:a6015790-7eff-11e7-bf32-124f7febbf4a
DTSTAMP:20170812T014332Z
SUMMARY:PTO Meeting
URL;VALUE=URI:https://www.decaturproud.org/blue-academy/calendar/1572956/pt
 o-meeting
DTSTART:20180508T220000Z
DTEND:20180509T014000Z
END:VEVENT
END:VCALENDAR
