BEGIN:VCALENDAR
VERSION:2.0
PRODID:SchoolNow
CALSCALE:GREGORIAN
BEGIN:VEVENT
UID:ad46ec52-14fa-11ee-83f4-0e14414dd41b
DTSTAMP:20230627T145537Z
SUMMARY:Spring Recess (no school)
URL;VALUE=URI:https://www.decaturproud.org/about/calendar/4441269/spring-re
 cess-no-school
DTSTART;VALUE=DATE:20240322
DTEND;VALUE=DATE:20240330
END:VEVENT
END:VCALENDAR
