BEGIN:VCALENDAR
VERSION:2.0
PRODID:SchoolNow
CALSCALE:GREGORIAN
BEGIN:VEVENT
UID:91531e30-14fa-11ee-b0eb-0e14414dd41b
DTSTAMP:20230627T145450Z
SUMMARY:President's Day (no school)
URL;VALUE=URI:https://www.decaturproud.org/about/calendar/4441268/president
 s-day-no-school
DTSTART;VALUE=DATE:20240219
DTEND;VALUE=DATE:20240220
END:VEVENT
END:VCALENDAR
