BEGIN:VCALENDAR
VERSION:2.0
PRODID:SchoolNow
CALSCALE:GREGORIAN
BEGIN:VEVENT
UID:54a8da60-14fa-11ee-8dac-0e14414dd41b
DTSTAMP:20230627T145308Z
SUMMARY:Martin Luther King Day (no school)
URL;VALUE=URI:https://www.decaturproud.org/about/calendar/4441267/martin-lu
 ther-king-day-no-school
DTSTART;VALUE=DATE:20240115
DTEND;VALUE=DATE:20240116
END:VEVENT
END:VCALENDAR
