BEGIN:VCALENDAR
VERSION:2.0
PRODID:SchoolNow
CALSCALE:GREGORIAN
BEGIN:VEVENT
UID:3a76b2e8-14fa-11ee-a39b-0e14414dd41b
DTSTAMP:20230627T145225Z
SUMMARY:Winter Recess (no school)
URL;VALUE=URI:https://www.decaturproud.org/about/calendar/4441266/winter-re
 cess-no-school
DTSTART;VALUE=DATE:20231222
DTEND;VALUE=DATE:20240106
END:VEVENT
END:VCALENDAR
