BEGIN:VCALENDAR
VERSION:2.0
PRODID:SchoolNow
CALSCALE:GREGORIAN
BEGIN:VEVENT
UID:01ba5b8a-14fa-11ee-b467-0e14414dd41b
DTSTAMP:20230627T145049Z
SUMMARY:Thanksgiving Recess (no school)
URL;VALUE=URI:https://www.decaturproud.org/about/calendar/4441265/thanksgiv
 ing-recess-no-school
DTSTART;VALUE=DATE:20231122
DTEND;VALUE=DATE:20231125
END:VEVENT
END:VCALENDAR
