BEGIN:VCALENDAR
VERSION:2.0
PRODID:SchoolNow
CALSCALE:GREGORIAN
BEGIN:VEVENT
UID:df0bffe4-14f9-11ee-a214-0e14414dd41b
DTSTAMP:20230627T144951Z
SUMMARY:eLearning Day (student's work from home)
URL;VALUE=URI:https://www.decaturproud.org/about/calendar/4441264/elearning
 -day-students-work-from-home
DTSTART;VALUE=DATE:20231107
DTEND;VALUE=DATE:20231108
END:VEVENT
END:VCALENDAR
