BEGIN:VCALENDAR
VERSION:2.0
PRODID:SchoolNow
CALSCALE:GREGORIAN
BEGIN:VEVENT
UID:b7997d10-14f9-11ee-b63d-0e14414dd41b
DTSTAMP:20230627T144845Z
SUMMARY:Fall Recess (no school)
URL;VALUE=URI:https://www.decaturproud.org/about/calendar/4441263/fall-rece
 ss-no-school
DTSTART;VALUE=DATE:20231009
DTEND;VALUE=DATE:20231021
END:VEVENT
END:VCALENDAR
