BEGIN:VCALENDAR
VERSION:2.0
PRODID:SchoolNow
CALSCALE:GREGORIAN
BEGIN:VEVENT
UID:918b775e-14f9-11ee-afd3-0e14414dd41b
DTSTAMP:20230627T144741Z
SUMMARY:Parent Conferences (no students)
URL;VALUE=URI:https://www.decaturproud.org/about/calendar/4441262/parent-co
 nferences-no-students
DTSTART;VALUE=DATE:20231004
DTEND;VALUE=DATE:20231005
END:VEVENT
END:VCALENDAR
