BEGIN:VCALENDAR
VERSION:2.0
PRODID:SchoolNow
CALSCALE:GREGORIAN
BEGIN:VEVENT
UID:6405c39a-14f7-11ee-85b0-0a0dffa2a585
DTSTAMP:20230627T143206Z
SUMMARY:Labor Day (no school)
URL;VALUE=URI:https://www.decaturproud.org/about/calendar/4441261/labor-day
 -no-school
DTSTART;VALUE=DATE:20230904
DTEND;VALUE=DATE:20230905
END:VEVENT
END:VCALENDAR
