BEGIN:VCALENDAR
VERSION:2.0
PRODID:SchoolNow
CALSCALE:GREGORIAN
BEGIN:VEVENT
UID:8ab4b846-bd24-11ed-b6a9-02b5f4e93f4d
DTSTAMP:20230307T201336Z
SUMMARY:Kindergarten Round Up
LOCATION:Blue Academy\, Gold Academy\, Lynwood\, Stephen Decatur\, Valley M
 ills\, West Newton
URL;VALUE=URI:https://www.decaturproud.org/about/calendar/3832553/kindergar
 ten-round-up
DTSTART:20230420T210000Z
DTEND:20230420T230000Z
END:VEVENT
END:VCALENDAR
