BEGIN:VCALENDAR
VERSION:2.0
PRODID:SchoolNow
CALSCALE:GREGORIAN
BEGIN:VEVENT
UID:b021ed06-14eb-11ed-84f3-0e28b8591be3
DTSTAMP:20220805T182322Z
SUMMARY:President's Day (No School)
URL;VALUE=URI:https://www.decaturproud.org/about/calendar/3272606/president
 s-day-no-school
DTSTART:20230220T192200Z
DTEND:20230220T202200Z
END:VEVENT
END:VCALENDAR
