BEGIN:VCALENDAR
VERSION:2.0
PRODID:SchoolNow
CALSCALE:GREGORIAN
BEGIN:VEVENT
UID:9baf88a6-14eb-11ed-95a0-0e28b8591be3
DTSTAMP:20220805T182248Z
SUMMARY:Dr. Martin Luther King Jr. Day (No School)
URL;VALUE=URI:https://www.decaturproud.org/about/calendar/3272605/dr-martin
 -luther-king-jr-day-no-school
DTSTART:20230116T192200Z
DTEND:20230116T202200Z
END:VEVENT
END:VCALENDAR
