BEGIN:VCALENDAR
VERSION:2.0
PRODID:SchoolNow
CALSCALE:GREGORIAN
BEGIN:VEVENT
UID:7d8838c8-14eb-11ed-8f74-0e28b8591be3
DTSTAMP:20220805T182157Z
SUMMARY:Winter Recess (No School)
URL;VALUE=URI:https://www.decaturproud.org/about/calendar/3272604/winter-re
 cess-no-school
DTSTART:20221221T192100Z
DTEND:20230104T202100Z
END:VEVENT
END:VCALENDAR
