BEGIN:VCALENDAR
VERSION:2.0
PRODID:SchoolNow
CALSCALE:GREGORIAN
BEGIN:VEVENT
UID:43154db6-14eb-11ed-9bd2-0e28b8591be3
DTSTAMP:20220805T182019Z
SUMMARY:eLearning Day (Students Work From Home)
URL;VALUE=URI:https://www.decaturproud.org/about/calendar/3272602/elearning
 -day-students-work-from-home
DTSTART:20221108T191900Z
DTEND:20221108T201900Z
END:VEVENT
END:VCALENDAR
