BEGIN:VCALENDAR
VERSION:2.0
PRODID:SchoolNow
CALSCALE:GREGORIAN
BEGIN:VEVENT
UID:1f6c7ad8-14eb-11ed-9c23-0e28b8591be3
DTSTAMP:20220805T181919Z
SUMMARY:Fall Recess (No School)
URL;VALUE=URI:https://www.decaturproud.org/about/calendar/3272601/fall-rece
 ss-no-school
DTSTART:20221010T181800Z
DTEND:20221021T191800Z
END:VEVENT
END:VCALENDAR
