BEGIN:VCALENDAR
VERSION:2.0
PRODID:SchoolNow
CALSCALE:GREGORIAN
BEGIN:VEVENT
UID:f2c0b2a6-14ea-11ed-8e1e-0e28b8591be3
DTSTAMP:20220805T181804Z
SUMMARY:Parent Conferences (No Students)
URL;VALUE=URI:https://www.decaturproud.org/about/calendar/3272600/parent-co
 nferences-no-students
DTSTART:20221005T181700Z
DTEND:20221005T191700Z
END:VEVENT
END:VCALENDAR
