BEGIN:VCALENDAR
VERSION:2.0
PRODID:SchoolNow
CALSCALE:GREGORIAN
BEGIN:VEVENT
UID:8ae48436-02d0-11ed-81d3-02821c5349db
DTSTAMP:20220713T172342Z
SUMMARY:Labor Day No School
URL;VALUE=URI:https://www.decaturproud.org/about/calendar/3243259/labor-day
 -no-school
DTSTART:20220905T172300Z
DTEND:20220905T182300Z
END:VEVENT
END:VCALENDAR
