BEGIN:VCALENDAR
VERSION:2.0
PRODID:SchoolNow
CALSCALE:GREGORIAN
BEGIN:VEVENT
UID:6c4657fc-02d0-11ed-b646-02821c5349db
DTSTAMP:20220713T172251Z
SUMMARY:1st Day of School
URL;VALUE=URI:https://www.decaturproud.org/about/calendar/3243238/1st-day-o
 f-school
DTSTART:20220801T172200Z
DTEND:20220801T182200Z
END:VEVENT
END:VCALENDAR
