BEGIN:VCALENDAR
VERSION:2.0
PRODID:SchoolNow
CALSCALE:GREGORIAN
BEGIN:VEVENT
UID:6fad3950-02cc-11ed-b487-0aeab622e103
DTSTAMP:20220713T165418Z
SUMMARY:In Person Registration
URL;VALUE=URI:https://www.decaturproud.org/about/calendar/3243158/in-person
 -registration
DTSTART:20220721T200000Z
DTEND:20220722T000000Z
END:VEVENT
END:VCALENDAR
