BEGIN:VCALENDAR
VERSION:2.0
PRODID:SchoolNow
CALSCALE:GREGORIAN
BEGIN:VEVENT
UID:5db97614-02cc-11ed-9047-0aeab622e103
DTSTAMP:20220713T165348Z
SUMMARY:In Person Registration
URL;VALUE=URI:https://www.decaturproud.org/about/calendar/3243156/in-person
 -registration
DTSTART:20220719T200000Z
DTEND:20220720T000000Z
END:VEVENT
END:VCALENDAR
