BEGIN:VCALENDAR
VERSION:2.0
PRODID:SchoolNow
CALSCALE:GREGORIAN
BEGIN:VEVENT
UID:488dd9f6-02cc-11ed-8e76-0aeab622e103
DTSTAMP:20220713T165313Z
SUMMARY:In Person Registration
URL;VALUE=URI:https://www.decaturproud.org/about/calendar/3243154/in-person
 -registration
DTSTART:20220719T130000Z
DTEND:20220719T160000Z
END:VEVENT
END:VCALENDAR
