BEGIN:VCALENDAR
VERSION:2.0
PRODID:SchoolNow
CALSCALE:GREGORIAN
BEGIN:VEVENT
UID:08195120-e3d3-11eb-8563-02463c07ad47
DTSTAMP:20210720T111021Z
SUMMARY:Spring Recess 2022 (No School)
URL;VALUE=URI:https://www.decaturproud.org/about/calendar/2637916/spring-re
 cess-no-school
DTSTART;VALUE=DATE:20220325
DTEND;VALUE=DATE:20220402
END:VEVENT
END:VCALENDAR
