BEGIN:VCALENDAR
VERSION:2.0
PRODID:SchoolNow
CALSCALE:GREGORIAN
BEGIN:VEVENT
UID:cebc7114-e3d2-11eb-99f2-02463c07ad47
DTSTAMP:20210720T111013Z
SUMMARY:President's Day 2022 (No School)
URL;VALUE=URI:https://www.decaturproud.org/about/calendar/2637907/president
 s-day-no-school
DTSTART;VALUE=DATE:20220221
DTEND;VALUE=DATE:20220222
END:VEVENT
END:VCALENDAR
