BEGIN:VCALENDAR
VERSION:2.0
PRODID:SchoolNow
CALSCALE:GREGORIAN
BEGIN:VEVENT
UID:953dbed0-e3d1-11eb-9f4a-02463c07ad47
DTSTAMP:20210720T110832Z
SUMMARY:Labor Day 2021 (No School)
URL;VALUE=URI:https://www.decaturproud.org/about/calendar/2637876/labor-day
 -no-school
DTSTART;VALUE=DATE:20210906
DTEND;VALUE=DATE:20210907
END:VEVENT
END:VCALENDAR
