BEGIN:VCALENDAR
VERSION:2.0
PRODID:SchoolNow
CALSCALE:GREGORIAN
BEGIN:VEVENT
UID:f17eeb2c-e3ce-11eb-8e4a-0208022715dd
DTSTAMP:20210720T110800Z
SUMMARY:In Person Registration - Morning
URL;VALUE=URI:https://www.decaturproud.org/about/calendar/2637857/in-person
 -registration
DTSTART:20210720T130000Z
DTEND:20210720T160000Z
END:VEVENT
END:VCALENDAR
